BEGIN:VCALENDAR
VERSION:2.0
PRODID:icalendar-ruby
CALSCALE:GREGORIAN
METHOD:PUBLISH
BEGIN:VEVENT
DTSTAMP:20260420T045207Z
UID:192-87663@stbarnabaschurch.ca
DTSTART:20260614T193000Z
DTEND:20260614T210000Z
CLASS:PUBLIC
CREATED:20260410T120256
DESCRIPTION:Music\, traditional games and entertainment.\nFollowing Mass on
  the Sunday.  
LAST-MODIFIED:20260410T120256
LOCATION:Stadacona Park 
SUMMARY:Parish Picnic 
URL;VALUE=URI:https://www.stbarnabaschurch.ca/events/parish-picnic--192/202
 6-06-14
ATTACH;FILENAME=Picnic.jpg;FMTTYPE=image/jpeg:https://dq5pwpg1q8ru0.cloudfr
 ont.net/2026/03/06/20/58/39/03c63fdb-38b8-456e-a8d0-974dce63b898/Picnic.jp
 g
ATTACH;FILENAME=IMG_1921(2).jpg;FMTTYPE=image/jpeg:https://dq5pwpg1q8ru0.cl
 oudfront.net/2026/04/10/19/02/55/f467d707-0893-4148-b0ae-76f07035fd40/IMG_
 1921(2).jpg
END:VEVENT
END:VCALENDAR
