BEGIN:VCALENDAR
VERSION:2.0
PRODID:icalendar-ruby
CALSCALE:GREGORIAN
METHOD:PUBLISH
BEGIN:VEVENT
DTSTAMP:20260420T045206Z
UID:190-73415@stbarnabaschurch.ca
DTSTART:20260531T220000Z
DTEND:20260531T233000Z
CLASS:PUBLIC
CREATED:20260306T124658
DESCRIPTION:Afternoon tea and entertainment for grandchildren and grandpare
 nt's of all ages
LAST-MODIFIED:20260306T124658
LOCATION:St. Barnabas Church Hall
SUMMARY:Grandparent's Tea 
URL;VALUE=URI:https://www.stbarnabaschurch.ca/events/grandparents-tea--190/
 2026-05-31
ATTACH;FILENAME=Grandparents tea (Website).jpg;FMTTYPE=image/jpeg:https://d
 q5pwpg1q8ru0.cloudfront.net/2026/03/06/20/46/57/e19265e7-8593-4f01-9e13-01
 2521037d57/Grandparents%20tea%20(Website).jpg
END:VEVENT
END:VCALENDAR
